Package: ANF Version: 1.28.0 Command: rm -rf ANF.buildbin-libdir && mkdir ANF.buildbin-libdir && F:\biocbuild\bbs-3.20-bioc\R\bin\R.exe CMD INSTALL --build --library=ANF.buildbin-libdir ANF_1.28.0.tar.gz StartedAt: 2025-02-04 07:57:42 -0500 (Tue, 04 Feb 2025) EndedAt: 2025-02-04 07:57:58 -0500 (Tue, 04 Feb 2025) EllapsedTime: 16.0 seconds RetCode: 0 Status: OK PackageFile: ANF_1.28.0.zip PackageFileSize: 254.4 KiB