Package: ANF Version: 1.28.0 Command: chmod a+r ANF -R && F:\biocbuild\bbs-3.20-bioc\R\bin\R.exe CMD build --keep-empty-dirs --no-resave-data ANF StartedAt: 2025-02-03 17:28:24 -0500 (Mon, 03 Feb 2025) EndedAt: 2025-02-03 17:29:46 -0500 (Mon, 03 Feb 2025) EllapsedTime: 82.4 seconds RetCode: 0 Status: OK PackageFile: ANF_1.28.0.tar.gz PackageFileSize: 683.3 KiB