Package: ANF Version: 1.28.0 Command: F:\biocbuild\bbs-3.20-bioc\R\bin\R.exe CMD check --no-multiarch --install=check:ANF.install-out.txt --library=F:\biocbuild\bbs-3.20-bioc\R\library --no-vignettes --timings ANF_1.28.0.tar.gz StartedAt: 2025-02-03 23:07:28 -0500 (Mon, 03 Feb 2025) EndedAt: 2025-02-03 23:09:38 -0500 (Mon, 03 Feb 2025) EllapsedTime: 129.9 seconds RetCode: 0 Status: OK CheckDir: ANF.Rcheck Warnings: 0