Package: ANF Version: 1.28.0 Command: /home/biocbuild/R/R/bin/R CMD build --keep-empty-dirs --no-resave-data ANF StartedAt: 2025-02-03 21:35:18 -0000 (Mon, 03 Feb 2025) EndedAt: 2025-02-03 22:15:19 -0000 (Mon, 03 Feb 2025) EllapsedTime: 2400.7 seconds RetCode: None Status: TIMEOUT PackageFile: None PackageFileSize: NA