Package: APAlyzer Version: 1.20.0 Command: /Library/Frameworks/R.framework/Resources/bin/R CMD build --keep-empty-dirs --no-resave-data APAlyzer StartedAt: 2025-02-03 18:43:51 -0500 (Mon, 03 Feb 2025) EndedAt: 2025-02-03 18:45:59 -0500 (Mon, 03 Feb 2025) EllapsedTime: 128.2 seconds RetCode: 0 Status: OK PackageFile: APAlyzer_1.20.0.tar.gz PackageFileSize: 3.962 MiB