Package: APAlyzer Version: 1.20.0 Command: /Library/Frameworks/R.framework/Resources/bin/R CMD check --install=check:APAlyzer.install-out.txt --library=/Library/Frameworks/R.framework/Resources/library --no-vignettes --timings APAlyzer_1.20.0.tar.gz StartedAt: 2025-02-04 11:25:32 -0500 (Tue, 04 Feb 2025) EndedAt: 2025-02-04 11:33:56 -0500 (Tue, 04 Feb 2025) EllapsedTime: 503.4 seconds RetCode: 0 Status: WARNINGS CheckDir: APAlyzer.Rcheck Warnings: 1