Package: APAlyzer Version: 1.20.0 Command: /Library/Frameworks/R.framework/Resources/bin/R CMD INSTALL APAlyzer StartedAt: 2025-02-10 17:45:34 -0500 (Mon, 10 Feb 2025) EndedAt: 2025-02-10 17:46:25 -0500 (Mon, 10 Feb 2025) EllapsedTime: 50.5 seconds RetCode: 0 Status: OK