Package: APAlyzer Version: 1.20.0 Command: /Library/Frameworks/R.framework/Resources/bin/R CMD check --install=check:APAlyzer.install-out.txt --library=/Library/Frameworks/R.framework/Resources/library --no-vignettes --timings APAlyzer_1.20.0.tar.gz StartedAt: 2024-11-08 20:21:02 -0500 (Fri, 08 Nov 2024) EndedAt: 2024-11-08 20:28:15 -0500 (Fri, 08 Nov 2024) EllapsedTime: 433.2 seconds RetCode: 0 Status: WARNINGS CheckDir: APAlyzer.Rcheck Warnings: 1