Package: APAlyzer Version: 1.20.0 Command: rm -rf APAlyzer.buildbin-libdir && mkdir APAlyzer.buildbin-libdir && /Users/biocbuild/BBS/utils/build-universal.sh APAlyzer_1.20.0.tar.gz /Library/Frameworks/R.framework/Resources/bin/R APAlyzer.buildbin-libdir StartedAt: 2025-01-31 12:20:15 -0500 (Fri, 31 Jan 2025) EndedAt: 2025-01-31 12:21:47 -0500 (Fri, 31 Jan 2025) EllapsedTime: 91.7 seconds RetCode: 0 Status: OK PackageFile: APAlyzer_1.20.0.tgz PackageFileSize: 4.041 MiB