Package: APAlyzer Version: 1.20.0 Command: /Library/Frameworks/R.framework/Resources/bin/R CMD INSTALL APAlyzer StartedAt: 2025-01-30 16:29:03 -0500 (Thu, 30 Jan 2025) EndedAt: 2025-01-30 16:30:31 -0500 (Thu, 30 Jan 2025) EllapsedTime: 88.8 seconds RetCode: 0 Status: OK