Package: APAlyzer Version: 1.20.0 Command: /home/biocbuild/bbs-3.20-bioc/R/bin/R CMD check --install=check:APAlyzer.install-out.txt --library=/home/biocbuild/bbs-3.20-bioc/R/site-library --timings APAlyzer_1.20.0.tar.gz StartedAt: 2025-02-03 20:04:54 -0500 (Mon, 03 Feb 2025) EndedAt: 2025-02-03 20:13:03 -0500 (Mon, 03 Feb 2025) EllapsedTime: 489.6 seconds RetCode: 0 Status: WARNINGS CheckDir: APAlyzer.Rcheck Warnings: 1