Package: APAlyzer Version: 1.20.0 Command: rm -rf APAlyzer.buildbin-libdir && mkdir APAlyzer.buildbin-libdir && F:\biocbuild\bbs-3.20-bioc\R\bin\R.exe CMD INSTALL --build --library=APAlyzer.buildbin-libdir APAlyzer_1.20.0.tar.gz StartedAt: 2025-02-04 07:58:44 -0500 (Tue, 04 Feb 2025) EndedAt: 2025-02-04 07:59:35 -0500 (Tue, 04 Feb 2025) EllapsedTime: 50.4 seconds RetCode: 0 Status: OK PackageFile: APAlyzer_1.20.0.zip PackageFileSize: 3.581 MiB