Package: APAlyzer Version: 1.20.0 Command: F:\biocbuild\bbs-3.20-bioc\R\bin\R.exe CMD check --no-multiarch --install=check:APAlyzer.install-out.txt --library=F:\biocbuild\bbs-3.20-bioc\R\library --no-vignettes --timings APAlyzer_1.20.0.tar.gz StartedAt: 2025-02-03 23:10:16 -0500 (Mon, 03 Feb 2025) EndedAt: 2025-02-03 23:25:28 -0500 (Mon, 03 Feb 2025) EllapsedTime: 911.6 seconds RetCode: 0 Status: WARNINGS CheckDir: APAlyzer.Rcheck Warnings: 1