Package: APAlyzer Version: 1.20.0 Command: /home/biocbuild/R/R/bin/R CMD INSTALL APAlyzer StartedAt: 2025-01-30 20:57:57 -0000 (Thu, 30 Jan 2025) EndedAt: 2025-01-30 20:58:51 -0000 (Thu, 30 Jan 2025) EllapsedTime: 54.3 seconds RetCode: 0 Status: OK