Package: ARRmNormalization Version: 1.46.0 Command: rm -rf ARRmNormalization.buildbin-libdir && mkdir ARRmNormalization.buildbin-libdir && /Users/biocbuild/BBS/utils/build-universal.sh ARRmNormalization_1.46.0.tar.gz /Library/Frameworks/R.framework/Resources/bin/R ARRmNormalization.buildbin-libdir StartedAt: 2025-02-05 14:49:46 -0500 (Wed, 05 Feb 2025) EndedAt: 2025-02-05 14:49:53 -0500 (Wed, 05 Feb 2025) EllapsedTime: 6.9 seconds RetCode: 0 Status: OK PackageFile: ARRmNormalization_1.46.0.tgz PackageFileSize: 1.111 MiB