Package: ARRmNormalization Version: 1.46.0 Command: /Library/Frameworks/R.framework/Resources/bin/R CMD build --keep-empty-dirs --no-resave-data ARRmNormalization StartedAt: 2025-02-03 18:47:10 -0500 (Mon, 03 Feb 2025) EndedAt: 2025-02-03 18:47:58 -0500 (Mon, 03 Feb 2025) EllapsedTime: 48.3 seconds RetCode: 0 Status: OK PackageFile: ARRmNormalization_1.46.0.tar.gz PackageFileSize: 1.075 MiB