Package: ARRmNormalization Version: 1.46.0 Command: /Library/Frameworks/R.framework/Resources/bin/R CMD check --install=check:ARRmNormalization.install-out.txt --library=/Library/Frameworks/R.framework/Resources/library --no-vignettes --timings ARRmNormalization_1.46.0.tar.gz StartedAt: 2025-02-04 11:31:26 -0500 (Tue, 04 Feb 2025) EndedAt: 2025-02-04 11:33:35 -0500 (Tue, 04 Feb 2025) EllapsedTime: 128.4 seconds RetCode: 0 Status: OK CheckDir: ARRmNormalization.Rcheck Warnings: 0