Package: ARRmNormalization Version: 1.46.0 Command: /Library/Frameworks/R.framework/Resources/bin/R CMD check --install=check:ARRmNormalization.install-out.txt --library=/Library/Frameworks/R.framework/Resources/library --no-vignettes --timings ARRmNormalization_1.46.0.tar.gz StartedAt: 2025-02-03 23:46:43 -0500 (Mon, 03 Feb 2025) EndedAt: 2025-02-03 23:49:23 -0500 (Mon, 03 Feb 2025) EllapsedTime: 159.6 seconds RetCode: 0 Status: OK CheckDir: ARRmNormalization.Rcheck Warnings: 0