Package: ARRmNormalization Version: 1.46.0 Command: F:\biocbuild\bbs-3.20-bioc\R\bin\R.exe CMD INSTALL ARRmNormalization StartedAt: 2025-02-03 15:33:44 -0500 (Mon, 03 Feb 2025) EndedAt: 2025-02-03 15:34:07 -0500 (Mon, 03 Feb 2025) EllapsedTime: 22.9 seconds RetCode: 0 Status: OK