Package: ARRmNormalization Version: 1.46.0 Command: /home/biocbuild/R/R/bin/R CMD check --install=check:ARRmNormalization.install-out.txt --library=/home/biocbuild/R/R/site-library --no-vignettes --timings ARRmNormalization_1.46.0.tar.gz StartedAt: 2025-02-04 04:25:14 -0000 (Tue, 04 Feb 2025) EndedAt: 2025-02-04 04:27:28 -0000 (Tue, 04 Feb 2025) EllapsedTime: 133.3 seconds RetCode: 0 Status: OK CheckDir: ARRmNormalization.Rcheck Warnings: 0