Package: ASEB Version: 1.50.0 Command: /Library/Frameworks/R.framework/Resources/bin/R CMD INSTALL ASEB StartedAt: 2025-02-03 15:09:10 -0500 (Mon, 03 Feb 2025) EndedAt: 2025-02-03 15:09:18 -0500 (Mon, 03 Feb 2025) EllapsedTime: 7.6 seconds RetCode: 0 Status: OK