Package: ASEB Version: 1.50.0 Command: /home/biocbuild/bbs-3.20-bioc/R/bin/R CMD INSTALL ASEB StartedAt: 2025-02-03 15:13:26 -0500 (Mon, 03 Feb 2025) EndedAt: 2025-02-03 15:13:41 -0500 (Mon, 03 Feb 2025) EllapsedTime: 15.7 seconds RetCode: 0 Status: OK