Package: ASEB Version: 1.50.0 Command: rm -rf ASEB.buildbin-libdir && mkdir ASEB.buildbin-libdir && F:\biocbuild\bbs-3.20-bioc\R\bin\R.exe CMD INSTALL --build --library=ASEB.buildbin-libdir ASEB_1.50.0.tar.gz StartedAt: 2025-02-04 07:59:13 -0500 (Tue, 04 Feb 2025) EndedAt: 2025-02-04 07:59:33 -0500 (Tue, 04 Feb 2025) EllapsedTime: 20.2 seconds RetCode: 0 Status: OK PackageFile: ASEB_1.50.0.zip PackageFileSize: 975.2 KiB