Package: ASEB Version: 1.50.0 Command: chmod a+r ASEB -R && F:\biocbuild\bbs-3.20-bioc\R\bin\R.exe CMD build --keep-empty-dirs --no-resave-data ASEB StartedAt: 2025-02-03 17:32:03 -0500 (Mon, 03 Feb 2025) EndedAt: 2025-02-03 17:32:32 -0500 (Mon, 03 Feb 2025) EllapsedTime: 28.9 seconds RetCode: 0 Status: OK PackageFile: ASEB_1.50.0.tar.gz PackageFileSize: 478 KiB