Package: ASEB Version: 1.50.0 Command: F:\biocbuild\bbs-3.20-bioc\R\bin\R.exe CMD check --no-multiarch --install=check:ASEB.install-out.txt --library=F:\biocbuild\bbs-3.20-bioc\R\library --no-vignettes --timings ASEB_1.50.0.tar.gz StartedAt: 2025-02-03 23:12:24 -0500 (Mon, 03 Feb 2025) EndedAt: 2025-02-03 23:13:15 -0500 (Mon, 03 Feb 2025) EllapsedTime: 51.3 seconds RetCode: 0 Status: OK CheckDir: ASEB.Rcheck Warnings: 0