Package: ASEB Version: 1.50.0 Command: F:\biocbuild\bbs-3.20-bioc\R\bin\R.exe CMD INSTALL ASEB StartedAt: 2025-02-03 15:31:23 -0500 (Mon, 03 Feb 2025) EndedAt: 2025-02-03 15:33:47 -0500 (Mon, 03 Feb 2025) EllapsedTime: 144.3 seconds RetCode: 0 Status: OK