Package: ASEB Version: 1.50.0 Command: /home/biocbuild/R/R/bin/R CMD build --keep-empty-dirs --no-resave-data ASEB StartedAt: 2025-02-10 21:23:28 -0000 (Mon, 10 Feb 2025) EndedAt: 2025-02-10 21:23:45 -0000 (Mon, 10 Feb 2025) EllapsedTime: 17.0 seconds RetCode: 0 Status: OK PackageFile: ASEB_1.50.0.tar.gz PackageFileSize: 594 KiB