Package: ASEB Version: 1.50.0 Command: /home/biocbuild/R/R/bin/R CMD INSTALL ASEB StartedAt: 2025-02-03 20:21:22 -0000 (Mon, 03 Feb 2025) EndedAt: 2025-02-03 20:21:32 -0000 (Mon, 03 Feb 2025) EllapsedTime: 9.8 seconds RetCode: 0 Status: OK