Package: ASGSCA Version: 1.40.0 Command: rm -rf ASGSCA.buildbin-libdir && mkdir ASGSCA.buildbin-libdir && /Users/biocbuild/BBS/utils/build-universal.sh ASGSCA_1.40.0.tar.gz /Library/Frameworks/R.framework/Resources/bin/R ASGSCA.buildbin-libdir StartedAt: 2025-02-05 14:49:58 -0500 (Wed, 05 Feb 2025) EndedAt: 2025-02-05 14:50:06 -0500 (Wed, 05 Feb 2025) EllapsedTime: 7.8 seconds RetCode: 0 Status: OK PackageFile: ASGSCA_1.40.0.tgz PackageFileSize: 876.8 KiB