Package: ASGSCA Version: 1.40.0 Command: /Library/Frameworks/R.framework/Resources/bin/R CMD build --keep-empty-dirs --no-resave-data ASGSCA StartedAt: 2025-02-10 18:58:35 -0500 (Mon, 10 Feb 2025) EndedAt: 2025-02-10 19:01:42 -0500 (Mon, 10 Feb 2025) EllapsedTime: 186.7 seconds RetCode: 0 Status: OK PackageFile: ASGSCA_1.40.0.tar.gz PackageFileSize: 1.293 MiB