Package: ASGSCA Version: 1.40.0 Command: /Library/Frameworks/R.framework/Resources/bin/R CMD check --install=check:ASGSCA.install-out.txt --library=/Library/Frameworks/R.framework/Resources/library --no-vignettes --timings ASGSCA_1.40.0.tar.gz StartedAt: 2024-11-19 19:33:29 -0500 (Tue, 19 Nov 2024) EndedAt: 2024-11-19 19:39:37 -0500 (Tue, 19 Nov 2024) EllapsedTime: 367.8 seconds RetCode: 0 Status: OK CheckDir: ASGSCA.Rcheck Warnings: 0