Package: ASGSCA Version: 1.40.0 Command: rm -rf ASGSCA.buildbin-libdir && mkdir ASGSCA.buildbin-libdir && /Users/biocbuild/BBS/utils/build-universal.sh ASGSCA_1.40.0.tar.gz /Library/Frameworks/R.framework/Resources/bin/R ASGSCA.buildbin-libdir StartedAt: 2025-02-04 12:28:26 -0500 (Tue, 04 Feb 2025) EndedAt: 2025-02-04 12:28:38 -0500 (Tue, 04 Feb 2025) EllapsedTime: 11.9 seconds RetCode: 0 Status: OK PackageFile: ASGSCA_1.40.0.tgz PackageFileSize: 876.8 KiB