Package: ASGSCA Version: 1.40.0 Command: rm -rf ASGSCA.buildbin-libdir && mkdir ASGSCA.buildbin-libdir && F:\biocbuild\bbs-3.20-bioc\R\bin\R.exe CMD INSTALL --build --library=ASGSCA.buildbin-libdir ASGSCA_1.40.0.tar.gz StartedAt: 2025-02-11 07:55:34 -0500 (Tue, 11 Feb 2025) EndedAt: 2025-02-11 07:55:43 -0500 (Tue, 11 Feb 2025) EllapsedTime: 8.9 seconds RetCode: 0 Status: OK PackageFile: ASGSCA_1.40.0.zip PackageFileSize: 767.1 KiB