Package: ASGSCA Version: 1.40.0 Command: chmod a+r ASGSCA -R && F:\biocbuild\bbs-3.20-bioc\R\bin\R.exe CMD build --keep-empty-dirs --no-resave-data ASGSCA StartedAt: 2025-02-10 17:25:56 -0500 (Mon, 10 Feb 2025) EndedAt: 2025-02-10 17:29:24 -0500 (Mon, 10 Feb 2025) EllapsedTime: 208.3 seconds RetCode: 0 Status: OK PackageFile: ASGSCA_1.40.0.tar.gz PackageFileSize: 1.183 MiB