Package: ASGSCA Version: 1.40.0 Command: F:\biocbuild\bbs-3.20-bioc\R\bin\R.exe CMD check --no-multiarch --install=check:ASGSCA.install-out.txt --library=F:\biocbuild\bbs-3.20-bioc\R\library --no-vignettes --timings ASGSCA_1.40.0.tar.gz StartedAt: 2025-02-03 23:12:40 -0500 (Mon, 03 Feb 2025) EndedAt: 2025-02-03 23:16:46 -0500 (Mon, 03 Feb 2025) EllapsedTime: 246.6 seconds RetCode: 0 Status: OK CheckDir: ASGSCA.Rcheck Warnings: 0