Package: ASGSCA Version: 1.40.0 Command: /home/biocbuild/R/R/bin/R CMD check --install=check:ASGSCA.install-out.txt --library=/home/biocbuild/R/R/site-library --no-vignettes --timings ASGSCA_1.40.0.tar.gz StartedAt: 2025-02-11 03:47:05 -0000 (Tue, 11 Feb 2025) EndedAt: 2025-02-11 03:51:22 -0000 (Tue, 11 Feb 2025) EllapsedTime: 257.4 seconds RetCode: 0 Status: OK CheckDir: ASGSCA.Rcheck Warnings: 0