Package: ASGSCA Version: 1.40.0 Command: /home/biocbuild/R/R/bin/R CMD INSTALL ASGSCA StartedAt: 2025-02-10 20:09:06 -0000 (Mon, 10 Feb 2025) EndedAt: 2025-02-10 20:09:18 -0000 (Mon, 10 Feb 2025) EllapsedTime: 12.5 seconds RetCode: 0 Status: OK