Package: ASICS Version: 2.22.0 Command: /Library/Frameworks/R.framework/Resources/bin/R CMD INSTALL ASICS StartedAt: 2025-02-03 17:54:23 -0500 (Mon, 03 Feb 2025) EndedAt: 2025-02-03 17:55:00 -0500 (Mon, 03 Feb 2025) EllapsedTime: 37.5 seconds RetCode: 0 Status: OK