Package: ASICS Version: 2.22.0 Command: /home/biocbuild/R/R/bin/R CMD build --keep-empty-dirs --no-resave-data ASICS StartedAt: 2025-02-03 21:39:40 -0000 (Mon, 03 Feb 2025) EndedAt: 2025-02-03 21:43:30 -0000 (Mon, 03 Feb 2025) EllapsedTime: 230.1 seconds RetCode: 0 Status: OK PackageFile: ASICS_2.22.0.tar.gz PackageFileSize: 3.582 MiB