Package: ASSIGN Version: 1.42.0 Command: rm -rf ASSIGN.buildbin-libdir && mkdir ASSIGN.buildbin-libdir && /Users/biocbuild/BBS/utils/build-universal.sh ASSIGN_1.42.0.tar.gz /Library/Frameworks/R.framework/Resources/bin/R ASSIGN.buildbin-libdir StartedAt: 2025-02-01 13:55:30 -0500 (Sat, 01 Feb 2025) EndedAt: 2025-02-01 13:55:36 -0500 (Sat, 01 Feb 2025) EllapsedTime: 5.7 seconds RetCode: 0 Status: OK PackageFile: ASSIGN_1.42.0.tgz PackageFileSize: 1.673 MiB