Package: ASSIGN Version: 1.42.0 Command: /Library/Frameworks/R.framework/Resources/bin/R CMD INSTALL ASSIGN StartedAt: 2025-01-30 17:43:05 -0500 (Thu, 30 Jan 2025) EndedAt: 2025-01-30 17:43:08 -0500 (Thu, 30 Jan 2025) EllapsedTime: 3.3 seconds RetCode: 0 Status: OK