Package: ASSIGN Version: 1.42.0 Command: rm -rf ASSIGN.buildbin-libdir && mkdir ASSIGN.buildbin-libdir && F:\biocbuild\bbs-3.20-bioc\R\bin\R.exe CMD INSTALL --build --library=ASSIGN.buildbin-libdir ASSIGN_1.42.0.tar.gz StartedAt: 2025-01-31 08:10:01 -0500 (Fri, 31 Jan 2025) EndedAt: 2025-01-31 08:10:16 -0500 (Fri, 31 Jan 2025) EllapsedTime: 14.4 seconds RetCode: 0 Status: OK PackageFile: ASSIGN_1.42.0.zip PackageFileSize: 1.676 MiB