Package: ASSIGN Version: 1.42.0 Command: F:\biocbuild\bbs-3.20-bioc\R\bin\R.exe CMD INSTALL ASSIGN StartedAt: 2025-02-03 16:15:16 -0500 (Mon, 03 Feb 2025) EndedAt: 2025-02-03 16:15:31 -0500 (Mon, 03 Feb 2025) EllapsedTime: 14.3 seconds RetCode: 0 Status: OK