Package: ASSIGN Version: 1.42.0 Command: /home/biocbuild/R/R/bin/R CMD build --keep-empty-dirs --no-resave-data ASSIGN StartedAt: 2025-01-30 21:35:48 -0000 (Thu, 30 Jan 2025) EndedAt: 2025-01-30 21:35:55 -0000 (Thu, 30 Jan 2025) EllapsedTime: 7.0 seconds RetCode: 0 Status: OK PackageFile: ASSIGN_1.42.0.tar.gz PackageFileSize: 1.685 MiB