Package: ASSIGN Version: 1.42.0 Command: /home/biocbuild/R/R/bin/R CMD check --install=check:ASSIGN.install-out.txt --library=/home/biocbuild/R/R/site-library --no-vignettes --timings ASSIGN_1.42.0.tar.gz StartedAt: 2025-01-31 03:53:49 -0000 (Fri, 31 Jan 2025) EndedAt: 2025-01-31 03:54:45 -0000 (Fri, 31 Jan 2025) EllapsedTime: 56.1 seconds RetCode: 0 Status: OK CheckDir: ASSIGN.Rcheck Warnings: 0