Package: ASSIGN Version: 1.42.0 Command: /home/biocbuild/R/R/bin/R CMD INSTALL ASSIGN StartedAt: 2025-01-30 20:57:55 -0000 (Thu, 30 Jan 2025) EndedAt: 2025-01-30 20:57:58 -0000 (Thu, 30 Jan 2025) EllapsedTime: 3.2 seconds RetCode: 0 Status: OK