Package: ASURAT Version: 1.10.0 Command: rm -rf ASURAT.buildbin-libdir && mkdir ASURAT.buildbin-libdir && F:\biocbuild\bbs-3.20-bioc\R\bin\R.exe CMD INSTALL --build --library=ASURAT.buildbin-libdir ASURAT_1.10.0.tar.gz StartedAt: 2025-02-04 07:59:29 -0500 (Tue, 04 Feb 2025) EndedAt: 2025-02-04 08:00:17 -0500 (Tue, 04 Feb 2025) EllapsedTime: 48.0 seconds RetCode: 0 Status: OK PackageFile: ASURAT_1.10.0.zip PackageFileSize: 3.314 MiB