Package: ASURAT Version: 1.10.0 Command: chmod a+r ASURAT -R && F:\biocbuild\bbs-3.20-bioc\R\bin\R.exe CMD build --keep-empty-dirs --no-resave-data ASURAT StartedAt: 2025-02-03 17:33:37 -0500 (Mon, 03 Feb 2025) EndedAt: 2025-02-03 17:50:17 -0500 (Mon, 03 Feb 2025) EllapsedTime: 999.6 seconds RetCode: 0 Status: OK PackageFile: ASURAT_1.10.0.tar.gz PackageFileSize: 1.161 MiB