Package: ASURAT Version: 1.10.0 Command: F:\biocbuild\bbs-3.20-bioc\R\bin\R.exe CMD check --no-multiarch --install=check:ASURAT.install-out.txt --library=F:\biocbuild\bbs-3.20-bioc\R\library --no-vignettes --timings ASURAT_1.10.0.tar.gz StartedAt: 2025-02-03 23:14:05 -0500 (Mon, 03 Feb 2025) EndedAt: 2025-02-03 23:18:32 -0500 (Mon, 03 Feb 2025) EllapsedTime: 267.5 seconds RetCode: 0 Status: OK CheckDir: ASURAT.Rcheck Warnings: 0