Package: ASURAT Version: 1.10.0 Command: F:\biocbuild\bbs-3.20-bioc\R\bin\R.exe CMD INSTALL ASURAT StartedAt: 2025-02-03 16:44:49 -0500 (Mon, 03 Feb 2025) EndedAt: 2025-02-03 16:45:34 -0500 (Mon, 03 Feb 2025) EllapsedTime: 45.9 seconds RetCode: 0 Status: OK